Workbook

Sheet Cumulative
A1: Received Date | B1: Disposition | C1: Disposition Date | D1: Total Days | E1: Source of initial complaint | F1: Medicaid Provider (Y/N) | G1: Highest sedation/anesthesia permit level | H1: Portability (Y/N) | I1: Self-reported practice area | J1: Patient ASA | K1: Patient age | L1: Location of treatment investigated | M1: Level of sedation administered | N1: Sedation/anesthesia administrator | O1: Treatment paid by Medicaid (Y/N) | P1: Nitrous Oxide administered - respondent | Q1: Local anesthesia administered - respondent | R1: Was sedation or general anesthesia provided?
A2: 44887 | B2: Closed by Final Board Order | C2: 45604 | D2: 717 | E2: Self-report of hospitalization | F2: No | G2: Level 1 | H2: No | I2: Prosthodontics | J2: ASA II | K2: 69 | L2: Respondent's dental office | M2: Level 3 | N2: Other dentist | P2: No - nitrous oxide was NOT provided to this patient | Q2: Yes - no complication | R2: Yes - no complication
A3: 44949 | B3: Closed by Remedial Plan | C3: 45604 | D3: 655 | E3: Public | F3: Yes | G3: Level 1 | H3: No | I3: General dentistry | J3: ASA I | K3: 41 | L3: Respondent's dental office | P3: No - nitrous oxide was NOT provided to this patient | Q3: Yes - no complication | R3: No - sedation or general anesthesia were NOT provided to this patient
A4: 44984 | B4: Closed by Final Board Order | C4: 45604 | D4: 620 | E4: Public | G4: Level 1 | I4: General dentistry | J4: ASA II | K4: 53 | L4: Respondent's dental office | P4: No - nitrous oxide was NOT provided to this patient | Q4: Yes - no complication | R4: No - sedation or general anesthesia were NOT provided to this patient
A5: 44988 | B5: Closed by Final Board Order | C5: 45604 | D5: 616 | J5: ASA I | K5: 32 | L5: Respondent's dental office | M5: Level 3 | N5: Respondent | P5: No - nitrous oxide was NOT provided to this patient | Q5: Yes - no complication | R5: Yes - no complication
A6: 44995 | B6: Closed by Final Board Order | C6: 45604 | D6: 609 | E6: Public | G6: Nitrous | J6: ASA III | K6: 73 | L6: Office of another dentist | P6: No - nitrous oxide was NOT provided to this patient | Q6: Yes - no complication | R6: No - sedation or general anesthesia were NOT provided to this patient
A7: 45029 | B7: Closed by Final Board Order | C7: 45604 | D7: 575 | E7: Public | J7: ASA I | K7: 34 | L7: Respondent's dental office | P7: No - nitrous oxide was NOT provided to this patient | Q7: Yes - no complication | R7: No - sedation or general anesthesia were NOT provided to this patient
A8: 45029 | B8: Closed by Final Board Order | C8: 45604 | D8: 575 | E8: Public | G8: Level 3 | H8: No | J8: ASA II | K8: 49 | L8: Respondent's dental office | P8: No - nitrous oxide was NOT provided to this patient | Q8: Yes - no complication | R8: No - sedation or general anesthesia were NOT provided to this patient
A9: 45036 | B9: Closed by Remedial Plan | C9: 45604 | D9: 568 | E9: Self-report of hospitalization | G9: Level 1 | H9: No | J9: ASA I | K9: 23 | L9: Respondent's dental office | P9: No - nitrous oxide was NOT provided to this patient | Q9: Yes - no complication | R9: No - sedation or general anesthesia were NOT provided to this patient
A10: 45049 | B10: Closed by Final Board Order | C10: 45604 | D10: 555 | E10: Public | G10: Level 3 | H10: No | J10: ASA I | K10: 55 | L10: Respondent's dental office | P10: No - nitrous oxide was NOT provided to this patient | Q10: Yes - no complication | R10: No - sedation or general anesthesia were NOT provided to this patient
A11: 45058 | B11: Closed by Remedial Plan | C11: 45604 | D11: 546 | E11: Public | G11: Level 1 | I11: General dentistry | J11: ASA II | K11: 57 | L11: Office of another dentist | P11: Yes - no complication | Q11: Yes - no complication | R11: No - sedation or general anesthesia were NOT provided to this patient
A12: 45063 | B12: Closed by Final Board Order | C12: 45604 | D12: 541 | E12: Public | G12: Level 1 | H12: No | I12: General dentistry | J12: ASA II | K12: 67 | L12: Respondent's dental office | P12: No - nitrous oxide was NOT provided to this patient | Q12: Yes - no complication | R12: No - sedation or general anesthesia were NOT provided to this patient
A13: 45068 | B13: Closed by Final Board Order | C13: 45604 | D13: 536 | E13: Public | G13: Level 3 | H13: No | J13: ASA II | K13: 50 | L13: Respondent's dental office | P13: No - nitrous oxide was NOT provided to this patient | Q13: Yes - no complication | R13: No - sedation or general anesthesia were NOT provided to this patient
A14: 45082 | B14: Closed by Remedial Plan | C14: 45604 | D14: 522 | E14: Public | G14: Level 1 | H14: No | J14: ASA I | K14: 35 | L14: Respondent's dental office | P14: No - nitrous oxide was NOT provided to this patient | Q14: Yes - no complication | R14: No - sedation or general anesthesia were NOT provided to this patient
A15: 45086 | B15: Closed by Remedial Plan | C15: 45604 | D15: 518 | E15: Public | H15: No | J15: ASA II | K15: 37 | L15: Respondent's dental office | P15: No - nitrous oxide was NOT provided to this patient | Q15: Yes - no complication | R15: No - sedation or general anesthesia were NOT provided to this patient
A16: 45091 | B16: Closed by Remedial Plan | C16: 45604 | D16: 513 | E16: Public | G16: Nitrous | H16: No | J16: ASA II | K16: 76 | L16: Office of another dentist | P16: No - nitrous oxide was NOT provided to this patient | Q16: Yes - no complication | R16: No - sedation or general anesthesia were NOT provided to this patient
A17: 45095 | B17: Closed by Remedial Plan | C17: 45604 | D17: 509 | E17: Public | H17: No | I17: General dentistry | J17: ASA II | K17: 66 | L17: Respondent's dental office | P17: No - nitrous oxide was NOT provided to this patient | Q17: Yes - no complication | R17: No - sedation or general anesthesia were NOT provided to this patient
A18: 45092 | B18: Closed by Remedial Plan | C18: 45604 | D18: 512 | E18: Public | G18: Level 1 | H18: No | I18: General dentistry | J18: ASA I | K18: 26 | L18: Respondent's dental office | P18: No - nitrous oxide was NOT provided to this patient | Q18: Yes - no complication | R18: No - sedation or general anesthesia were NOT provided to this patient
A19: 45096 | B19: Closed by Final Board Order | C19: 45604 | D19: 508 | J19: ASA II | K19: 71 | L19: Respondent's dental office | M19: Level 1 | N19: Respondent | P19: Yes - associated complication | Q19: Yes - associated complication | R19: Yes - associated complication
A20: 45104 | B20: Closed by Remedial Plan | C20: 45604 | D20: 500 | E20: Public | G20: Level 1 | H20: No | J20: ASA I | K20: 41 | L20: Respondent's dental office | P20: No - nitrous oxide was NOT provided to this patient | Q20: Yes - no complication | R20: No - sedation or general anesthesia were NOT provided to this patient
A21: 45106 | B21: Closed by Remedial Plan | C21: 45604 | D21: 498 | E21: Public | G21: Level 4 | I21: OMS | J21: ASA III | K21: 52 | L21: Respondent's dental office | M21: Level 4 | N21: Respondent | P21: Yes - associated complication | Q21: Yes - no complication | R21: Yes - no complication
A22: 45104 | B22: Closed by Remedial Plan | C22: 45604 | D22: 500 | E22: Public | G22: Level 1 | H22: No | I22: General dentistry | J22: ASA II | K22: 65 | L22: Respondent's dental office | P22: No - nitrous oxide was NOT provided to this patient | Q22: Yes - no complication | R22: No - sedation or general anesthesia were NOT provided to this patient
A23: 45117 | B23: Closed by Remedial Plan | C23: 45604 | D23: 487 | E23: Public | G23: Level 1 | H23: No | J23: ASA II | K23: 69 | L23: Respondent's dental office | P23: No - nitrous oxide was NOT provided to this patient | Q23: Yes - no complication | R23: No - sedation or general anesthesia were NOT provided to this patient
A24: 45118 | B24: Closed by Voluntary Surender | C24: 45608 | D24: 490 | E24: Public | G24: Nitrous | H24: No | I24: General dentistry | J24: ASA I | K24: 26 | L24: Respondent's dental office | P24: No - nitrous oxide was NOT provided to this patient | Q24: Yes - no complication | R24: No - sedation or general anesthesia were NOT provided to this patient
A25: 45119 | B25: Closed by Voluntary Surender | C25: 45617 | D25: 498 | E25: Public | G25: Nitrous | H25: No | J25: ASA III | K25: 62 | L25: Respondent's dental office | P25: Yes - no complication | Q25: Yes - no complication | R25: No - sedation or general anesthesia were NOT provided to this patient
A26: 45124 | B26: Closed by Final Board Order | C26: 45604 | D26: 480 | E26: Public | H26: No | J26: ASA II | K26: 9 | L26: Respondent's dental office | P26: No - nitrous oxide was NOT provided to this patient | Q26: Yes - no complication | R26: No - sedation or general anesthesia were NOT provided to this patient
A27: 45135 | B27: Closed by Remedial Plan | C27: 45604 | D27: 469 | E27: Public | G27: Level 1 | H27: No | I27: General dentistry | J27: ASA II | K27: 55 | L27: Respondent's dental office | M27: Level 3 | N27: MD - Anesthesiologist | P27: No - nitrous oxide was NOT provided to this patient | Q27: Yes - no complication | R27: Yes - no complication
A28: 45138 | B28: Closed by Remedial Plan | C28: 45604 | D28: 466 | E28: Public | G28: Nitrous | H28: No | J28: ASA II | K28: 82 | L28: Respondent's dental office | P28: No - nitrous oxide was NOT provided to this patient | Q28: Yes - no complication | R28: No - sedation or general anesthesia were NOT provided to this patient
A29: 45141 | B29: Closed by Remedial Plan | C29: 45604 | D29: 463 | E29: Self-report of hospitalization | G29: Level 1 | H29: No | I29: General dentistry | J29: ASA I | K29: 6 | L29: Respondent's dental office | P29: Yes - no complication | Q29: Yes - no complication | R29: No - sedation or general anesthesia were NOT provided to this patient
A30: 45149 | B30: Closed by Final Board Order | C30: 45604 | D30: 455 | E30: Public | H30: No | J30: ASA I | K30: 26 | L30: Respondent's dental office | P30: No - nitrous oxide was NOT provided to this patient | Q30: Yes - no complication | R30: No - sedation or general anesthesia were NOT provided to this patient
A31: 45153 | B31: Closed by Final Board Order | C31: 45604 | D31: 451 | E31: Self-report of hospitalization | G31: Nitrous | H31: No | J31: ASA II | K31: 48 | L31: Respondent's dental office | P31: No - nitrous oxide was NOT provided to this patient | Q31: Yes - no complication | R31: No - sedation or general anesthesia were NOT provided to this patient
A32: 45159 | B32: Closed by Remedial Plan | C32: 45604 | D32: 445 | E32: Public | G32: Nitrous | H32: No | I32: General dentistry | J32: ASA II | K32: 66 | L32: Respondent's dental office | P32: No - nitrous oxide was NOT provided to this patient | Q32: Yes - no complication | R32: No - sedation or general anesthesia were NOT provided to this patient
A33: 45174 | B33: Closed by Remedial Plan | C33: 45604 | D33: 430 | E33: Public | G33: Level 1 | H33: No | J33: ASA II | K33: 51 | L33: Respondent's dental office | P33: No - nitrous oxide was NOT provided to this patient | Q33: Yes - no complication | R33: No - sedation or general anesthesia were NOT provided to this patient
A34: 45181 | B34: Closed by Final Board Order | C34: 45604 | D34: 423 | E34: Other agency | G34: Level 1 | H34: No | J34: ASA I | K34: 13 | L34: Respondent's dental office | P34: Yes - no complication | Q34: Yes - no complication | R34: No - sedation or general anesthesia were NOT provided to this patient
A35: 45203 | B35: Closed by Remedial Plan | C35: 45604 | D35: 401 | J35: ASA II | K35: 91 | L35: Respondent's dental office | P35: Yes - no complication | Q35: Yes - no complication | R35: No - sedation or general anesthesia were NOT provided to this patient
A36: 45246 | B36: Closed by Final Board Order | C36: 45604 | D36: 358 | E36: Public | G36: Level 3 | H36: No | J36: ASA II | K36: 69 | L36: Respondent's dental office | P36: No - nitrous oxide was NOT provided to this patient | Q36: Yes - no complication | R36: No - sedation or general anesthesia were NOT provided to this patient
A37: 45251 | B37: Closed by Remedial Plan | C37: 45604 | D37: 353 | E37: Public | G37: Level 1 | H37: No | I37: General dentistry | J37: ASA II | K37: 59 | L37: Respondent's dental office | P37: Yes - no complication | Q37: Yes - no complication | R37: No - sedation or general anesthesia were NOT provided to this patient
A38: 44564 | B38: Closed by Remedial Plan | C38: 45513 | D38: 949 | E38: Public | F38: No | G38: Level 1 | H38: No | I38: General dentistry | J38: ASA II | K38: 32 | L38: Respondent's dental office | P38: Yes - no complication | Q38: Yes - no complication | R38: No - sedation or general anesthesia were NOT provided to this patient
A39: 44588 | B39: Closed by Remedial Plan | C39: 45513 | D39: 925 | E39: Public | F39: Yes | G39: Nitrous | H39: No | I39: General dentistry | J39: ASA I | K39: 37 | L39: Office of another dentist | P39: No - nitrous oxide was NOT provided to this patient | Q39: Yes - no complication | R39: No - sedation or general anesthesia were NOT provided to this patient
A40: 44592 | B40: Closed by Remedial Plan | C40: 45513 | D40: 921 | E40: Public | F40: No | G40: Nitrous | H40: No | I40: Dental public health | J40: ASA I | K40: 38 | L40: Respondent's dental office | P40: No - nitrous oxide was NOT provided to this patient | Q40: Yes - no complication | R40: No - sedation or general anesthesia were NOT provided to this patient
...

Sheet 2025 Q3
A1: Received Date | B1: Disposition | C1: Disposition Date | D1: Total Days | E1: Source of initial complaint | F1: Medicaid Provider (Y/N) | G1: Highest sedation/anesthesia permit level | H1: Portability (Y/N) | I1: Self-reported practice area | J1: Patient ASA | K1: Patient age | L1: Location of treatment investigated | M1: Level of sedation administered | N1: Sedation/anesthesia administrator | O1: Treatment paid by Medicaid (Y/N) | P1: Nitrous Oxide administered - respondent | Q1: Local anesthesia administered - respondent | R1: Was sedation or general anesthesia provided?
A2: 43854 | B2: Closed by Final Board Order | C2: 45779 | D2: 1925 | E2: Other agency | F2: Yes | H2: No | I2: General dentistry | J2: ASA I | K2: 14 | L2: Respondent's dental office | P2: No - nitrous oxide was NOT provided to this patient | Q2: Yes - no complication | R2: No - sedation or general anesthesia were NOT provided to this patient
A3: 45013 | B3: Closed by Final Board Order | C3: 45779 | D3: 766 | E3: Public | G3: Level 1 | I3: General dentistry | J3: ASA II | K3: 47 | L3: Respondent's dental office | P3: No - nitrous oxide was NOT provided to this patient | Q3: Yes - no complication | R3: No - sedation or general anesthesia were NOT provided to this patient
A4: 45014 | B4: Closed by Remedial Plan | C4: 45779 | D4: 765 | E4: Public | G4: Nitrous | J4: ASA II | K4: 71 | L4: Office of another dentist | P4: No - nitrous oxide was NOT provided to this patient | Q4: Yes - no complication | R4: No - sedation or general anesthesia were NOT provided to this patient
A5: 45094 | B5: Closed by Final Board Order | C5: 45779 | D5: 685 | E5: Public | G5: Nitrous | H5: No | J5: ASA II | K5: 9 | L5: Respondent's dental office | P5: Yes - no complication | Q5: Yes - no complication | R5: No - sedation or general anesthesia were NOT provided to this patient
A6: 45107 | B6: Closed by Final Board Order | C6: 45779 | D6: 672 | E6: Public | G6: Level 1 | H6: No | I6: General dentistry | J6: ASA II | K6: 61 | L6: Respondent's dental office | M6: Level 1 | N6: Respondent | P6: Yes - no complication | Q6: Yes - no complication | R6: Yes - no complication
A7: 45141 | B7: Closed by Final Board Order | C7: 45779 | D7: 638 | E7: Public | G7: Level 1 | H7: No | I7: General dentistry | J7: ASA II | K7: 47 | L7: Respondent's dental office | P7: Yes - no complication | Q7: Yes - no complication | R7: No - sedation or general anesthesia were NOT provided to this patient
A8: 45151 | B8: Closed by Final Board Order | C8: 45779 | D8: 628 | E8: Public | G8: Level 1 | H8: No | I8: General dentistry | J8: ASA II | K8: 32 | L8: Respondent's dental office | M8: Level 2 | N8: Respondent | P8: Yes - no complication | Q8: Yes - no complication | R8: Yes - no complication
A9: 45155 | B9: Closed by Remedial Plan | C9: 45779 | D9: 624 | E9: Public | G9: Level 1 | H9: No | J9: ASA I | K9: 71 | L9: Respondent's dental office | M9: Level 1 | N9: Respondent | P9: Yes - no complication | Q9: Yes - no complication | R9: Yes - no complication
A10: 45156 | B10: Closed by Final Board Order | C10: 45779 | D10: 623 | E10: Public | G10: Level 3 | H10: No | J10: ASA II | K10: 53 | L10: Respondent's dental office | M10: Level 3 | N10: Respondent | P10: No - nitrous oxide was NOT provided to this patient | Q10: Yes - no complication | R10: Yes - no complication
A11: 45170 | B11: Closed by Remedial Plan | C11: 45779 | D11: 609 | E11: Public | G11: Level 1 | H11: No | J11: ASA II | K11: 47 | L11: Office of another dentist | P11: No - nitrous oxide was NOT provided to this patient | Q11: Yes - no complication | R11: No - sedation or general anesthesia were NOT provided to this patient
A12: 45170 | B12: Closed by Remedial Plan | C12: 45779 | D12: 609 | E12: Public | G12: Nitrous | H12: No | J12: ASA I | K12: 50 | L12: Respondent's dental office | P12: No - nitrous oxide was NOT provided to this patient | Q12: Yes - no complication | R12: No - sedation or general anesthesia were NOT provided to this patient
A13: 45180 | B13: Closed by Final Board Order | C13: 45779 | D13: 599 | E13: Public | G13: Level 1 | H13: No | I13: General dentistry | J13: ASA III | K13: 76 | L13: Respondent's dental office | P13: No - nitrous oxide was NOT provided to this patient | Q13: Yes - no complication | R13: No - sedation or general anesthesia were NOT provided to this patient
A14: 45180 | B14: Closed by Final Board Order | C14: 45779 | D14: 599 | E14: Public | G14: Level 1 | H14: No | I14: General dentistry | J14: ASA II | K14: 60 | L14: Respondent's dental office | P14: No - nitrous oxide was NOT provided to this patient | Q14: Yes - no complication | R14: No - sedation or general anesthesia were NOT provided to this patient
A15: 45180 | B15: Closed by Remedial Plan | C15: 45779 | D15: 599 | E15: Public | G15: Level 1 | H15: No | J15: ASA II | K15: 60 | L15: Respondent's dental office | M15: Level 1 | N15: Respondent | P15: No - nitrous oxide was NOT provided to this patient | Q15: Yes - no complication | R15: Yes - no complication
A16: 45183 | B16: Closed by Final Board Order | C16: 45779 | D16: 596 | E16: Public | G16: Nitrous | H16: No | I16: General dentistry | J16: ASA II | K16: 50 | L16: Respondent's dental office | P16: No - nitrous oxide was NOT provided to this patient | Q16: Yes - no complication | R16: No - sedation or general anesthesia were NOT provided to this patient
A17: 45187 | B17: Closed by Remedial Plan | C17: 45779 | D17: 592 | E17: Public | H17: No | J17: ASA I | K17: 40 | L17: Respondent's dental office | P17: No - nitrous oxide was NOT provided to this patient | Q17: Yes - no complication | R17: No - sedation or general anesthesia were NOT provided to this patient
A18: 45197 | B18: Closed by Remedial Plan | C18: 45779 | D18: 582 | E18: Public | G18: Level 2 | H18: No | I18: General dentistry | J18: ASA II | K18: 65 | L18: Respondent's dental office | P18: No - nitrous oxide was NOT provided to this patient | Q18: Yes - no complication | R18: No - sedation or general anesthesia were NOT provided to this patient
A19: 45200 | B19: Closed by Final Board Order | C19: 45779 | D19: 579 | E19: Public | G19: Level 1 | H19: No | J19: ASA II | K19: 45 | L19: Respondent's dental office | P19: No - nitrous oxide was NOT provided to this patient | Q19: Yes - no complication | R19: No - sedation or general anesthesia were NOT provided to this patient
A20: 45208 | B20: Closed by Final Board Order | C20: 45779 | D20: 571 | E20: Public | G20: Level 1 | H20: No | J20: ASA I | K20: 63 | L20: Respondent's dental office | M20: Level 1 | N20: Respondent | P20: Yes - no complication | Q20: Yes - no complication | R20: Yes - no complication
A21: 45205 | B21: Closed by Remedial Plan | C21: 45779 | D21: 574 | E21: Public | H21: No | I21: General dentistry | J21: ASA I | K21: 70 | L21: Respondent's dental office | P21: No - nitrous oxide was NOT provided to this patient | Q21: Yes - no complication | R21: No - sedation or general anesthesia were NOT provided to this patient
A22: 45205 | B22: Closed by Remedial Plan | C22: 45779 | D22: 574 | G22: Nitrous | H22: No | J22: ASA I | K22: 57 | L22: Respondent's dental office | P22: No - nitrous oxide was NOT provided to this patient | Q22: Yes - no complication | R22: No - sedation or general anesthesia were NOT provided to this patient
A23: 45208 | B23: Closed by Final Board Order | C23: 45779 | D23: 571 | E23: Public | G23: Nitrous | H23: No | J23: ASA I | K23: 26 | L23: Respondent's dental office | P23: No - nitrous oxide was NOT provided to this patient | Q23: Yes - no complication | R23: No - sedation or general anesthesia were NOT provided to this patient
A24: 45210 | B24: Closed by Remedial Plan | C24: 45779 | D24: 569 | E24: Public | G24: Nitrous | H24: No | I24: General dentistry | J24: ASA II | K24: 65 | L24: Respondent's dental office | P24: Yes - no complication | Q24: Yes - no complication | R24: No - sedation or general anesthesia were NOT provided to this patient
A25: 45236 | B25: Closed by Remedial Plan | C25: 45779 | D25: 543 | E25: Public | H25: No | J25: ASA I | K25: 30 | L25: Respondent's dental office | P25: No - nitrous oxide was NOT provided to this patient | Q25: Yes - no complication | R25: No - sedation or general anesthesia were NOT provided to this patient
A26: 45237 | B26: Closed by Remedial Plan | C26: 45779 | D26: 542 | E26: Public | H26: No | J26: ASA III | K26: 52 | L26: Respondent's dental office | P26: No - nitrous oxide was NOT provided to this patient | Q26: Yes - no complication | R26: No - sedation or general anesthesia were NOT provided to this patient
A27: 45240 | B27: Closed by Remedial Plan | C27: 45779 | D27: 539 | E27: Public | G27: Nitrous | H27: No | J27: ASA II | K27: 61 | L27: Respondent's dental office | P27: No - nitrous oxide was NOT provided to this patient | Q27: Yes - no complication | R27: No - sedation or general anesthesia were NOT provided to this patient
A28: 45243 | B28: Closed by Final Board Order | C28: 45779 | D28: 536 | E28: Public | G28: Level 2 | H28: No | J28: ASA III | K28: 68 | L28: Respondent's dental office | P28: No - nitrous oxide was NOT provided to this patient | Q28: Yes - no complication | R28: No - sedation or general anesthesia were NOT provided to this patient
A29: 45287 | B29: Closed by Remedial Plan | C29: 45779 | D29: 492 | E29: Public | H29: No | J29: ASA II | K29: 28 | L29: Respondent's dental office | P29: No - nitrous oxide was NOT provided to this patient | Q29: Yes - no complication | R29: No - sedation or general anesthesia were NOT provided to this patient
A30: 45303 | B30: Closed by Remedial Plan | C30: 45779 | D30: 476 | E30: Public | G30: Nitrous | H30: No | J30: ASA II | K30: 17 | L30: Respondent's dental office | P30: No - nitrous oxide was NOT provided to this patient | Q30: Yes - no complication | R30: No - sedation or general anesthesia were NOT provided to this patient
A31: 45320 | B31: Closed by Remedial Plan | C31: 45779 | D31: 459 | E31: Public | G31: Nitrous | H31: No | I31: General dentistry | J31: ASA II | K31: 77 | L31: Respondent's dental office | P31: No - nitrous oxide was NOT provided to this patient | Q31: Yes - no complication | R31: No - sedation or general anesthesia were NOT provided to this patient
A32: 45357 | B32: Closed by Remedial Plan | C32: 45779 | D32: 422 | E32: Self-report of hospitalization | G32: Level 4 | H32: Yes | I32: OMS | J32: ASA II | K32: 67 | L32: Respondent's dental office | M32: Level 3 | N32: Respondent | P32: No - nitrous oxide was NOT provided to this patient | Q32: Yes - no complication | R32: Yes - no complication
A33: 45357 | B33: Closed by Remedial Plan | C33: 45779 | D33: 422 | E33: Public | G33: Level 1 | H33: No | J33: ASA III | K33: 64 | L33: Respondent's dental office | P33: No - nitrous oxide was NOT provided to this patient | Q33: Yes - no complication | R33: No - sedation or general anesthesia were NOT provided to this patient
A34: 45404 | B34: Closed by Final Board Order | C34: 45779 | D34: 375 | E34: Public | G34: Level 1 | H34: No | J34: ASA II | K34: 54 | L34: Respondent's dental office | P34: No - nitrous oxide was NOT provided to this patient | Q34: Yes - no complication | R34: No - sedation or general anesthesia were NOT provided to this patient
A35: 45413 | B35: Closed by Remedial Plan | C35: 45779 | D35: 366 | E35: Public | G35: Nitrous | H35: No | I35: General dentistry | J35: ASA II | K35: 64 | L35: Respondent's dental office | P35: No - nitrous oxide was NOT provided to this patient | Q35: Yes - no complication | R35: No - sedation or general anesthesia were NOT provided to this patient
A36: 45420 | B36: Closed by Remedial Plan | C36: 45779 | D36: 359 | E36: Public | G36: Level 4 | H36: No | I36: General dentistry | J36: ASA II | K36: 76 | L36: Respondent's dental office | M36: Level 3 | N36: Respondent | P36: No - nitrous oxide was NOT provided to this patient | Q36: Yes - no complication | R36: Yes - no complication
A37: 45434 | B37: Closed by Remedial Plan | C37: 45779 | D37: 345 | E37: Initiated by Board | G37: Level 4 | I37: OMS | J37: ASA I | K37: 22 | L37: Respondent's dental office | M37: Level 4 | N37: Respondent | P37: No - nitrous oxide was NOT provided to this patient | Q37: Yes - no complication | R37: Yes - no complication
A38: 45434 | B38: Closed by Remedial Plan | C38: 45779 | D38: 345 | E38: Public | H38: No | J38: ASA II | K38: 41 | L38: Respondent's dental office | P38: Yes - no complication | Q38: Yes - no complication | R38: No - sedation or general anesthesia were NOT provided to this patient
A39: 45470 | B39: Closed by Remedial Plan | C39: 45779 | D39: 309 | E39: Public | G39: Level 4 | I39: OMS | J39: ASA II | K39: 27 | L39: Respondent's dental office | M39: Level 4 | N39: Respondent | P39: No - nitrous oxide was NOT provided to this patient | Q39: Yes - no complication | R39: Yes - no complication

Sheet 2025 Q2
A1: Received Date | B1: Disposition | C1: Disposition Date | D1: Total Days | E1: Source of initial complaint | F1: Information about Licensee | G1: Medicaid Provider (Y/N) | H1: Highest sedation/anesthesia permit level | I1: Portability (Y/N) | J1: Self-reported practice area | K1: Information about Patient | L1: Patient ASA | M1: Patient age | N1: Location of treatment investigated | O1: Level of sedation administered | P1: Sedation/anesthesia administrator | Q1: Treatment paid by Medicaid (Y/N) | R1: Information about Investigation | S1: Nitrous Oxide administered - respondent | T1: Local anesthesia administered - respondent | U1: Was sedation or general anesthesia provided? | V1: Allegation categories identified in preliminary investigation | W1: Disposition of official investigation | X1: Violations identified (NPDB)
A2: 44074 | B2: Closed by Final Board Order | C2: 45709 | D2: 1635 | E2: Initiated by Board | G2: Yes | H2: Level 1 | I2: No | J2: General dentistry | L2: ASA I | M2: 46 | N2: Respondent's dental office | O2: Level 1 | P2: Respondent | S2: No - nitrous oxide was NOT provided to this patient | T2: No - local anesthesia was NOT provided to this patient | U2: No - sedation or general anesthesia were NOT provided to this patient
A3: 44900 | B3: Closed by Final Board Order | C3: 45709 | D3: 809 | E3: Public | G3: No | H3: Level 1 | I3: No | J3: General dentistry | L3: ASA I | M3: 56 | N3: Respondent's dental office | S3: No - nitrous oxide was NOT provided to this patient | T3: Yes - no complication | U3: No - sedation or general anesthesia were NOT provided to this patient
A4: 44949 | B4: Closed by Remedial Plan | C4: 45709 | D4: 760 | E4: Public | G4: Yes | H4: Level 1 | I4: No | J4: General dentistry | L4: ASA II | M4: 33 | N4: Respondent's dental office | S4: No - nitrous oxide was NOT provided to this patient | T4: Yes - no complication | U4: No - sedation or general anesthesia were NOT provided to this patient
A5: 44977 | B5: Closed by Final Board Order | C5: 45709 | D5: 732 | E5: Public | H5: Level 1 | J5: General dentistry | L5: ASA I | M5: 80 | N5: Respondent's dental office | S5: No - nitrous oxide was NOT provided to this patient | T5: Yes - no complication | U5: No - sedation or general anesthesia were NOT provided to this patient
A6: 45015 | B6: Closed by Final Board Order | C6: 45709 | D6: 694 | E6: Public | H6: Nitrous | J6: General dentistry | L6: ASA II | M6: 63 | N6: Office of another dentist | O6: Level 1 | P6: Respondent | S6: No - nitrous oxide was NOT provided to this patient | T6: Yes - no complication | U6: Yes - no complication
A7: 45023 | B7: Closed by Final Board Order | C7: 45709 | D7: 686 | E7: Public | H7: Nitrous | I7: No | L7: ASA III | M7: 85 | N7: Respondent's dental office | S7: No - nitrous oxide was NOT provided to this patient | T7: Yes - no complication | U7: No - sedation or general anesthesia were NOT provided to this patient
A8: 45121 | B8: Closed by Remedial Plan | C8: 45709 | D8: 588 | E8: Public | H8: Nitrous | I8: No | J8: General dentistry | L8: ASA II | M8: 57 | N8: Respondent's dental office | S8: No - nitrous oxide was NOT provided to this patient | T8: Yes - no complication | U8: No - sedation or general anesthesia were NOT provided to this patient
A9: 45140 | B9: Closed by Remedial Plan | C9: 45709 | D9: 569 | E9: Public | H9: Level 3 | I9: No | J9: General dentistry | L9: ASA II | M9: 66 | N9: Respondent's dental office | O9: Level 3 | P9: Respondent | S9: No - nitrous oxide was NOT provided to this patient | T9: Yes - no complication | U9: Yes - no complication
A10: 45148 | B10: Closed by Final Board Order | C10: 45709 | D10: 566 | E10: Public | H10: Level 1 | I10: No | J10: General dentistry | L10: ASA I | M10: 55 | N10: Respondent's dental office | S10: No - nitrous oxide was NOT provided to this patient | T10: Yes - no complication | U10: No - sedation or general anesthesia were NOT provided to this patient
A11: 45174 | B11: Closed by Remedial Plan | C11: 45709 | D11: 561 | E11: Public | I11: No | L11: ASA III | M11: 60 | N11: Office of another dentist | S11: No - nitrous oxide was NOT provided to this patient | T11: Yes - no complication | U11: No - sedation or general anesthesia were NOT provided to this patient
A12: 45174 | B12: Closed by Final Board Order | C12: 45709 | D12: 535 | E12: Public | H12: Level 1 | I12: No | J12: General dentistry | L12: ASA II | M12: 80 | N12: Respondent's dental office | S12: No - nitrous oxide was NOT provided to this patient | T12: Yes - no complication | U12: No - sedation or general anesthesia were NOT provided to this patient
A13: 45180 | B13: Closed by Remedial Plan | C13: 45709 | D13: 529 | E13: Public | I13: No | L13: ASA II | M13: 72 | N13: Respondent's dental office | S13: No - nitrous oxide was NOT provided to this patient | T13: Yes - no complication | U13: No - sedation or general anesthesia were NOT provided to this patient
A14: 45181 | B14: Closed by Remedial Plan | C14: 45709 | D14: 528 | E14: Public | H14: Nitrous | I14: No | J14: General dentistry | L14: ASA II | M14: 79 | N14: Office of another dentist | S14: No - nitrous oxide was NOT provided to this patient | T14: Yes - no complication | U14: No - sedation or general anesthesia were NOT provided to this patient
A15: 45190 | B15: Closed by Remedial Plan | C15: 45709 | D15: 519 | E15: Public | H15: Nitrous | I15: No | J15: General dentistry | L15: ASA II | M15: 65 | N15: Respondent's dental office | S15: No - nitrous oxide was NOT provided to this patient | T15: Yes - no complication | U15: No - sedation or general anesthesia were NOT provided to this patient
A16: 45194 | B16: Closed by Remedial Plan | C16: 45709 | D16: 515 | E16: Public | H16: Nitrous | I16: No | L16: ASA II | M16: 36 | N16: Respondent's dental office | S16: Yes - no complication | T16: Yes - no complication | U16: No - sedation or general anesthesia were NOT provided to this patient
A17: 45197 | B17: Closed by Remedial Plan | C17: 45709 | D17: 512 | E17: Public | H17: Level 1 | I17: No | J17: General dentistry | L17: ASA I | M17: 45 | N17: Respondent's dental office | S17: No - nitrous oxide was NOT provided to this patient | T17: Yes - no complication | U17: No - sedation or general anesthesia were NOT provided to this patient
A18: 45197 | B18: Closed by Remedial Plan | C18: 45709 | D18: 512 | E18: Public | H18: Level 1 | I18: No | L18: ASA I | M18: 39 | N18: Respondent's dental office | S18: No - nitrous oxide was NOT provided to this patient | T18: Yes - no complication | U18: No - sedation or general anesthesia were NOT provided to this patient
A19: 45198 | B19: Closed by Final Board Order | C19: 45709 | D19: 511 | E19: Public | H19: Level 1 | I19: No | J19: General dentistry | L19: ASA I | M19: 66 | N19: Respondent's dental office | S19: No - nitrous oxide was NOT provided to this patient | T19: Yes - no complication | U19: No - sedation or general anesthesia were NOT provided to this patient
A20: 45219 | B20: Closed with Administrative Penalties | C20: 45709 | D20: 490 | E20: Public | H20: Level 4 | I20: No | J20: OMS | L20: ASA II | M20: 45 | N20: Respondent's dental office | O20: Level 3 | P20: Respondent | S20: No - nitrous oxide was NOT provided to this patient | T20: Yes - no complication | U20: Yes - no complication
A21: 45220 | B21: Closed by Remedial Plan | C21: 45709 | D21: 489 | E21: Public | H21: Level 1 | I21: No | J21: General dentistry | L21: ASA II | M21: 65 | N21: Respondent's dental office | S21: No - nitrous oxide was NOT provided to this patient | T21: Yes - no complication | U21: No - sedation or general anesthesia were NOT provided to this patient
A22: 45225 | B22: Closed by Final Board Order | C22: 45709 | D22: 484 | E22: Self-report of hospitalization | H22: Level 1 | I22: No | J22: General dentistry | L22: ASA I | M22: 25 | N22: Respondent's dental office | O22: Level 1 | P22: Respondent | S22: No - nitrous oxide was NOT provided to this patient | T22: Yes - no complication | U22: Yes - no complication
A23: 45247 | B23: Closed by Remedial Plan | C23: 45709 | D23: 462 | E23: Public | H23: Level 1 | I23: No | L23: ASA II | M23: 13 | N23: Respondent's dental office | S23: Yes - no complication | T23: Yes - no complication | U23: No - sedation or general anesthesia were NOT provided to this patient
A24: 45328 | B24: Closed by Final Board Order | C24: 45709 | D24: 381 | E24: Public | H24: Nitrous | I24: No | J24: General dentistry | L24: ASA III | M24: 68 | N24: Respondent's dental office | O24: Level 1 | P24: Respondent | S24: No - nitrous oxide was NOT provided to this patient | T24: Yes - no complication | U24: Yes - no complication

Sheet 2025 Q1
A1: Received Date | B1: Disposition | C1: Disposition Date | D1: Total Days | E1: Source of initial complaint | F1: Medicaid Provider (Y/N) | G1: Highest sedation/anesthesia permit level | H1: Portability (Y/N) | I1: Self-reported practice area | J1: Patient ASA | K1: Patient age | L1: Location of treatment investigated | M1: Level of sedation administered | N1: Sedation/anesthesia administrator | O1: Treatment paid by Medicaid (Y/N) | P1: Nitrous Oxide administered - respondent | Q1: Local anesthesia administered - respondent | R1: Was sedation or general anesthesia provided?
A2: 44887 | B2: Closed by Final Board Order | C2: 45604 | D2: 717 | E2: Self-report of hospitalization | F2: No | G2: Level 1 | H2: No | I2: Prosthodontics | J2: ASA II | K2: 69 | L2: Respondent's dental office | M2: Level 3 | N2: Other dentist | P2: No - nitrous oxide was NOT provided to this patient | Q2: Yes - no complication | R2: Yes - no complication
A3: 44949 | B3: Closed by Remedial Plan | C3: 45604 | D3: 655 | E3: Public | F3: Yes | G3: Level 1 | H3: No | I3: General dentistry | J3: ASA I | K3: 41 | L3: Respondent's dental office | P3: No - nitrous oxide was NOT provided to this patient | Q3: Yes - no complication | R3: No - sedation or general anesthesia were NOT provided to this patient
A4: 44984 | B4: Closed by Final Board Order | C4: 45604 | D4: 620 | E4: Public | G4: Level 1 | I4: General dentistry | J4: ASA II | K4: 53 | L4: Respondent's dental office | P4: No - nitrous oxide was NOT provided to this patient | Q4: Yes - no complication | R4: No - sedation or general anesthesia were NOT provided to this patient
A5: 44988 | B5: Closed by Final Board Order | C5: 45604 | D5: 616 | J5: ASA I | K5: 32 | L5: Respondent's dental office | M5: Level 3 | N5: Respondent | P5: No - nitrous oxide was NOT provided to this patient | Q5: Yes - no complication | R5: Yes - no complication
A6: 44995 | B6: Closed by Final Board Order | C6: 45604 | D6: 609 | E6: Public | G6: Nitrous | J6: ASA III | K6: 73 | L6: Office of another dentist | P6: No - nitrous oxide was NOT provided to this patient | Q6: Yes - no complication | R6: No - sedation or general anesthesia were NOT provided to this patient
A7: 45029 | B7: Closed by Final Board Order | C7: 45604 | D7: 575 | E7: Public | J7: ASA I | K7: 34 | L7: Respondent's dental office | P7: No - nitrous oxide was NOT provided to this patient | Q7: Yes - no complication | R7: No - sedation or general anesthesia were NOT provided to this patient
A8: 45029 | B8: Closed by Final Board Order | C8: 45604 | D8: 575 | E8: Public | G8: Level 3 | H8: No | J8: ASA II | K8: 49 | L8: Respondent's dental office | P8: No - nitrous oxide was NOT provided to this patient | Q8: Yes - no complication | R8: No - sedation or general anesthesia were NOT provided to this patient
A9: 45036 | B9: Closed by Remedial Plan | C9: 45604 | D9: 568 | E9: Self-report of hospitalization | G9: Level 1 | H9: No | J9: ASA I | K9: 23 | L9: Respondent's dental office | P9: No - nitrous oxide was NOT provided to this patient | Q9: Yes - no complication | R9: No - sedation or general anesthesia were NOT provided to this patient
A10: 45049 | B10: Closed by Final Board Order | C10: 45604 | D10: 555 | E10: Public | G10: Level 3 | H10: No | J10: ASA I | K10: 55 | L10: Respondent's dental office | P10: No - nitrous oxide was NOT provided to this patient | Q10: Yes - no complication | R10: No - sedation or general anesthesia were NOT provided to this patient
A11: 45058 | B11: Closed by Remedial Plan | C11: 45604 | D11: 546 | E11: Public | G11: Level 1 | I11: General dentistry | J11: ASA II | K11: 57 | L11: Office of another dentist | P11: Yes - no complication | Q11: Yes - no complication | R11: No - sedation or general anesthesia were NOT provided to this patient
A12: 45063 | B12: Closed by Final Board Order | C12: 45604 | D12: 541 | E12: Public | G12: Level 1 | H12: No | I12: General dentistry | J12: ASA II | K12: 67 | L12: Respondent's dental office | P12: No - nitrous oxide was NOT provided to this patient | Q12: Yes - no complication | R12: No - sedation or general anesthesia were NOT provided to this patient
A13: 45068 | B13: Closed by Final Board Order | C13: 45604 | D13: 536 | E13: Public | G13: Level 3 | H13: No | J13: ASA II | K13: 50 | L13: Respondent's dental office | P13: No - nitrous oxide was NOT provided to this patient | Q13: Yes - no complication | R13: No - sedation or general anesthesia were NOT provided to this patient
A14: 45082 | B14: Closed by Remedial Plan | C14: 45604 | D14: 522 | E14: Public | G14: Level 1 | H14: No | J14: ASA I | K14: 35 | L14: Respondent's dental office | P14: No - nitrous oxide was NOT provided to this patient | Q14: Yes - no complication | R14: No - sedation or general anesthesia were NOT provided to this patient
A15: 45086 | B15: Closed by Remedial Plan | C15: 45604 | D15: 518 | E15: Public | H15: No | J15: ASA II | K15: 37 | L15: Respondent's dental office | P15: No - nitrous oxide was NOT provided to this patient | Q15: Yes - no complication | R15: No - sedation or general anesthesia were NOT provided to this patient
A16: 45091 | B16: Closed by Remedial Plan | C16: 45604 | D16: 513 | E16: Public | G16: Nitrous | H16: No | J16: ASA II | K16: 76 | L16: Office of another dentist | P16: No - nitrous oxide was NOT provided to this patient | Q16: Yes - no complication | R16: No - sedation or general anesthesia were NOT provided to this patient
A17: 45095 | B17: Closed by Remedial Plan | C17: 45604 | D17: 509 | E17: Public | H17: No | I17: General dentistry | J17: ASA II | K17: 66 | L17: Respondent's dental office | P17: No - nitrous oxide was NOT provided to this patient | Q17: Yes - no complication | R17: No - sedation or general anesthesia were NOT provided to this patient
A18: 45092 | B18: Closed by Remedial Plan | C18: 45604 | D18: 512 | E18: Public | G18: Level 1 | H18: No | I18: General dentistry | J18: ASA I | K18: 26 | L18: Respondent's dental office | P18: No - nitrous oxide was NOT provided to this patient | Q18: Yes - no complication | R18: No - sedation or general anesthesia were NOT provided to this patient
A19: 45096 | B19: Closed by Final Board Order | C19: 45604 | D19: 508 | J19: ASA II | K19: 71 | L19: Respondent's dental office | M19: Level 1 | N19: Respondent | P19: Yes - associated complication | Q19: Yes - associated complication | R19: Yes - associated complication
A20: 45104 | B20: Closed by Remedial Plan | C20: 45604 | D20: 500 | E20: Public | G20: Level 1 | H20: No | J20: ASA I | K20: 41 | L20: Respondent's dental office | P20: No - nitrous oxide was NOT provided to this patient | Q20: Yes - no complication | R20: No - sedation or general anesthesia were NOT provided to this patient
A21: 45106 | B21: Closed by Remedial Plan | C21: 45604 | D21: 498 | E21: Public | G21: Level 4 | I21: OMS | J21: ASA III | K21: 52 | L21: Respondent's dental office | M21: Level 4 | N21: Respondent | P21: Yes - associated complication | Q21: Yes - no complication | R21: Yes - no complication
A22: 45104 | B22: Closed by Remedial Plan | C22: 45604 | D22: 500 | E22: Public | G22: Level 1 | H22: No | I22: General dentistry | J22: ASA II | K22: 65 | L22: Respondent's dental office | P22: No - nitrous oxide was NOT provided to this patient | Q22: Yes - no complication | R22: No - sedation or general anesthesia were NOT provided to this patient
A23: 45117 | B23: Closed by Remedial Plan | C23: 45604 | D23: 487 | E23: Public | G23: Level 1 | H23: No | J23: ASA II | K23: 69 | L23: Respondent's dental office | P23: No - nitrous oxide was NOT provided to this patient | Q23: Yes - no complication | R23: No - sedation or general anesthesia were NOT provided to this patient
A24: 45118 | B24: Closed by Voluntary Surender | C24: 45608 | D24: 490 | E24: Public | G24: Nitrous | H24: No | I24: General dentistry | J24: ASA I | K24: 26 | L24: Respondent's dental office | P24: No - nitrous oxide was NOT provided to this patient | Q24: Yes - no complication | R24: No - sedation or general anesthesia were NOT provided to this patient
A25: 45119 | B25: Closed by Voluntary Surender | C25: 45617 | D25: 498 | E25: Public | G25: Nitrous | H25: No | J25: ASA III | K25: 62 | L25: Respondent's dental office | P25: Yes - no complication | Q25: Yes - no complication | R25: No - sedation or general anesthesia were NOT provided to this patient
A26: 45124 | B26: Closed by Final Board Order | C26: 45604 | D26: 480 | E26: Public | H26: No | J26: ASA II | K26: 9 | L26: Respondent's dental office | P26: No - nitrous oxide was NOT provided to this patient | Q26: Yes - no complication | R26: No - sedation or general anesthesia were NOT provided to this patient
A27: 45135 | B27: Closed by Remedial Plan | C27: 45604 | D27: 469 | E27: Public | G27: Level 1 | H27: No | I27: General dentistry | J27: ASA II | K27: 55 | L27: Respondent's dental office | M27: Level 3 | N27: MD - Anesthesiologist | P27: No - nitrous oxide was NOT provided to this patient | Q27: Yes - no complication | R27: Yes - no complication
A28: 45138 | B28: Closed by Remedial Plan | C28: 45604 | D28: 466 | E28: Public | G28: Nitrous | H28: No | J28: ASA II | K28: 82 | L28: Respondent's dental office | P28: No - nitrous oxide was NOT provided to this patient | Q28: Yes - no complication | R28: No - sedation or general anesthesia were NOT provided to this patient
A29: 45141 | B29: Closed by Remedial Plan | C29: 45604 | D29: 463 | E29: Self-report of hospitalization | G29: Level 1 | H29: No | I29: General dentistry | J29: ASA I | K29: 6 | L29: Respondent's dental office | P29: Yes - no complication | Q29: Yes - no complication | R29: No - sedation or general anesthesia were NOT provided to this patient
A30: 45149 | B30: Closed by Final Board Order | C30: 45604 | D30: 455 | E30: Public | H30: No | J30: ASA I | K30: 26 | L30: Respondent's dental office | P30: No - nitrous oxide was NOT provided to this patient | Q30: Yes - no complication | R30: No - sedation or general anesthesia were NOT provided to this patient
A31: 45153 | B31: Closed by Final Board Order | C31: 45604 | D31: 451 | E31: Self-report of hospitalization | G31: Nitrous | H31: No | J31: ASA II | K31: 48 | L31: Respondent's dental office | P31: No - nitrous oxide was NOT provided to this patient | Q31: Yes - no complication | R31: No - sedation or general anesthesia were NOT provided to this patient
A32: 45159 | B32: Closed by Remedial Plan | C32: 45604 | D32: 445 | E32: Public | G32: Nitrous | H32: No | I32: General dentistry | J32: ASA II | K32: 66 | L32: Respondent's dental office | P32: No - nitrous oxide was NOT provided to this patient | Q32: Yes - no complication | R32: No - sedation or general anesthesia were NOT provided to this patient
A33: 45174 | B33: Closed by Remedial Plan | C33: 45604 | D33: 430 | E33: Public | G33: Level 1 | H33: No | J33: ASA II | K33: 51 | L33: Respondent's dental office | P33: No - nitrous oxide was NOT provided to this patient | Q33: Yes - no complication | R33: No - sedation or general anesthesia were NOT provided to this patient
A34: 45181 | B34: Closed by Final Board Order | C34: 45604 | D34: 423 | E34: Other agency | G34: Level 1 | H34: No | J34: ASA I | K34: 13 | L34: Respondent's dental office | P34: Yes - no complication | Q34: Yes - no complication | R34: No - sedation or general anesthesia were NOT provided to this patient
A35: 45203 | B35: Closed by Remedial Plan | C35: 45604 | D35: 401 | J35: ASA II | K35: 91 | L35: Respondent's dental office | P35: Yes - no complication | Q35: Yes - no complication | R35: No - sedation or general anesthesia were NOT provided to this patient
A36: 45246 | B36: Closed by Final Board Order | C36: 45604 | D36: 358 | E36: Public | G36: Level 3 | H36: No | J36: ASA II | K36: 69 | L36: Respondent's dental office | P36: No - nitrous oxide was NOT provided to this patient | Q36: Yes - no complication | R36: No - sedation or general anesthesia were NOT provided to this patient
A37: 45251 | B37: Closed by Remedial Plan | C37: 45604 | D37: 353 | E37: Public | G37: Level 1 | H37: No | I37: General dentistry | J37: ASA II | K37: 59 | L37: Respondent's dental office | P37: Yes - no complication | Q37: Yes - no complication | R37: No - sedation or general anesthesia were NOT provided to this patient

Sheet 2024 Q4
A1: Received Date | B1: Disposition | C1: Disposition Date | D1: Total Days | E1: Source_of_initial_complaint | F1: Medicaid_Provider | G1: Highest_sedation_anesthesia_permit_level | H1: Portability | I1: Self_reported_practice_area | J1: Patient_ASA | K1: Patient_age | L1: Location_of_treatment_investigated | M1: Level_of_sedation_administered | N1: Sedation_anesthesia_administrator | O1: Treatment_paid_by_Medicaid_ | P1: Nitrous_Oxide_administered_respondent | Q1: Local_anesthesia_administered_respondent | R1: Was_sedation_or_general_anesthesia_provided
A2: 44564 | B2: Closed by Remedial Plan | C2: 45513 | D2: 949 | E2: Public | F2: No | G2: Level 1 | H2: No | I2: General dentistry | J2: ASA II | K2: 32 | L2: Respondent's dental office | P2: Yes - no complication | Q2: Yes - no complication | R2: No - sedation or general anesthesia were NOT provided to this patient
A3: 44588 | B3: Closed by Remedial Plan | C3: 45513 | D3: 925 | E3: Public | F3: Yes | G3: Nitrous | H3: No | I3: General dentistry | J3: ASA I | K3: 37 | L3: Office of another dentist | P3: No - nitrous oxide was NOT provided to this patient | Q3: Yes - no complication | R3: No - sedation or general anesthesia were NOT provided to this patient
A4: 44592 | B4: Closed by Remedial Plan | C4: 45513 | D4: 921 | E4: Public | F4: No | G4: Nitrous | H4: No | I4: Dental public health | J4: ASA I | K4: 38 | L4: Respondent's dental office | P4: No - nitrous oxide was NOT provided to this patient | Q4: Yes - no complication | R4: No - sedation or general anesthesia were NOT provided to this patient
A5: 44623 | B5: Closed by Remedial Plan | C5: 45513 | D5: 890 | E5: Public | F5: No | G5: Level 1 | H5: No | I5: General dentistry | J5: ASA II | K5: 48 | L5: Respondent's dental office | P5: No - nitrous oxide was NOT provided to this patient | Q5: Yes - no complication | R5: No - sedation or general anesthesia were NOT provided to this patient
A6: 44788 | B6: Closed by Final Board Order | C6: 45513 | D6: 725 | E6: Public | F6: No | G6: Level 4 | H6: No | I6: OMS | J6: ASA II | K6: 63 | L6: Respondent's dental office | M6: Level 3 | N6: Respondent | P6: No - nitrous oxide was NOT provided to this patient | Q6: Yes - no complication | R6: Yes - no complication
A7: 44797 | B7: Closed by Remedial Plan | C7: 45513 | D7: 716 | E7: Self-report of hospitalization | F7: No | G7: Level 3 | H7: No | I7: General dentistry | J7: ASA III | K7: 74 | L7: Respondent's dental office | P7: No - nitrous oxide was NOT provided to this patient | Q7: Yes - no complication | R7: No - sedation or general anesthesia were NOT provided to this patient
A8: 44839 | B8: Closed by Remedial Plan | C8: 45513 | D8: 674 | E8: Public | F8: Yes | G8: Level 1 | H8: No | I8: General dentistry | J8: ASA I | K8: 26 | L8: Respondent's dental office | P8: No - nitrous oxide was NOT provided to this patient | Q8: Yes - no complication | R8: No - sedation or general anesthesia were NOT provided to this patient
A9: 44888 | B9: Closed by Remedial Plan | C9: 45513 | D9: 625 | E9: Self-report of hospitalization | F9: No | G9: Level 3 | H9: Yes | I9: General dentistry | J9: ASA II | K9: 70 | L9: Office of another dentist | M9: Level 3 | N9: Respondent | P9: No - nitrous oxide was NOT provided to this patient | Q9: Yes - no complication | R9: Yes - associated complication
A10: 44929 | B10: Closed by Final Board Order | C10: 45513 | D10: 584 | E10: Public | F10: Yes | G10: Level 2 | H10: No | I10: General dentistry | J10: ASA II | K10: 44 | L10: Respondent's dental office | M10: Level 2 | N10: Respondent | P10: Yes - no complication | Q10: Yes - no complication | R10: Yes - no complication
A11: 44945 | B11: Closed by Final Board Order | C11: 45513 | D11: 568 | E11: Public | F11: No | G11: Nitrous | H11: Yes | I11: General dentistry | J11: ASA II | K11: 56 | L11: Respondent's dental office | P11: No - nitrous oxide was NOT provided to this patient | Q11: Yes - no complication | R11: No - sedation or general anesthesia were NOT provided to this patient
A12: 44945 | B12: Closed by Final Board Order | C12: 45513 | D12: 568 | E12: Public | F12: No | G12: Nitrous | H12: Yes | I12: General dentistry | J12: ASA II | K12: 21 | L12: Respondent's dental office | P12: No - nitrous oxide was NOT provided to this patient | Q12: Yes - no complication | R12: No - sedation or general anesthesia were NOT provided to this patient
A13: 44963 | B13: Closed by Remedial Plan | C13: 45513 | D13: 550 | E13: Public | I13: General dentistry | J13: ASA II | K13: 48 | L13: Respondent's dental office | P13: No - nitrous oxide was NOT provided to this patient | Q13: Yes - no complication | R13: No - sedation or general anesthesia were NOT provided to this patient
A14: 44970 | B14: Closed by Remedial Plan | C14: 45513 | D14: 543 | E14: Public | G14: Level 3 | I14: Periodontics | J14: ASA II | K14: 74 | L14: Office of another dentist | P14: No - nitrous oxide was NOT provided to this patient | Q14: Yes - no complication | R14: No - sedation or general anesthesia were NOT provided to this patient
A15: 44978 | B15: Closed by Final Board Order | C15: 45513 | D15: 535 | E15: Initiated by Board | G15: Level 4 | I15: OMS | J15: ASA I | K15: 18 | L15: Respondent's dental office | M15: Level 4 | N15: Respondent | P15: No - nitrous oxide was NOT provided to this patient | Q15: Yes - no complication | R15: Yes - no complication
A16: 44980 | B16: Closed by Remedial Plan | C16: 45513 | D16: 533 | E16: Public | I16: General dentistry | J16: ASA I | K16: 55 | L16: Respondent's dental office | P16: No - nitrous oxide was NOT provided to this patient | Q16: Yes - no complication | R16: No - sedation or general anesthesia were NOT provided to this patient
A17: 44984 | B17: Closed by Remedial Plan | C17: 45513 | D17: 529 | E17: Public | G17: Level 1 | I17: General dentistry | J17: ASA II | K17: 74 | L17: Respondent's dental office | M17: Level 3 | N17: MD - Anesthesiologist | P17: No - nitrous oxide was NOT provided to this patient | Q17: Yes - no complication | R17: Yes - no complication
A18: 45001 | B18: Closed by Remedial Plan | C18: 45513 | D18: 512 | E18: Public | G18: Nitrous | J18: ASA II | K18: 44 | L18: Respondent's dental office | P18: No - nitrous oxide was NOT provided to this patient | Q18: Yes - no complication | R18: No - sedation or general anesthesia were NOT provided to this patient
A19: 45021 | B19: Closed by Final Board Order | C19: 45513 | D19: 492 | E19: Public | G19: Level 1 | J19: ASA I | K19: 49 | L19: Respondent's dental office | P19: No - nitrous oxide was NOT provided to this patient | Q19: Yes - no complication | R19: No - sedation or general anesthesia were NOT provided to this patient
A20: 45029 | B20: Closed by Final Board Order | C20: 45513 | D20: 484 | E20: Public | G20: Level 4 | H20: No | I20: OMS | J20: ASA II | K20: 47 | L20: Respondent's dental office | P20: No - nitrous oxide was NOT provided to this patient | Q20: Yes - no complication | R20: No - sedation or general anesthesia were NOT provided to this patient
A21: 45030 | B21: Closed by Remedial Plan | C21: 45513 | D21: 483 | E21: Public | G21: Level 1 | J21: ASA I | K21: 60 | L21: Respondent's dental office | P21: No - nitrous oxide was NOT provided to this patient | Q21: Yes - no complication | R21: No - sedation or general anesthesia were NOT provided to this patient
A22: 45034 | B22: Closed by Final Board Order | C22: 45513 | D22: 479 | E22: Public | G22: Nitrous | H22: No | I22: General dentistry | J22: ASA I | K22: 38 | L22: Respondent's dental office | P22: No - nitrous oxide was NOT provided to this patient | Q22: Yes - no complication | R22: No - sedation or general anesthesia were NOT provided to this patient
A23: 45041 | B23: Closed by Final Board Order | C23: 45513 | D23: 472 | E23: Self-report of hospitalization | G23: Level 4 | H23: Yes | J23: ASA III | K23: 65 | L23: Respondent's dental office | M23: Level 4 | N23: Respondent | P23: No - nitrous oxide was NOT provided to this patient | Q23: Yes - no complication | R23: Yes - associated complication
A24: 45047 | B24: Closed by Remedial Plan | C24: 45513 | D24: 466 | E24: Public | G24: Level 3 | I24: Periodontics | J24: ASA II | K24: 45 | L24: Respondent's dental office | M24: Level 3 | N24: Respondent | P24: No - nitrous oxide was NOT provided to this patient | Q24: Yes - no complication | R24: Yes - no complication
A25: 45049 | B25: Closed with Administrative Penalties | C25: 45513 | D25: 464 | E25: Public | G25: Nitrous | H25: No | J25: ASA II | K25: 43 | L25: Respondent's dental office | P25: Yes - no complication | Q25: Yes - no complication | R25: No - sedation or general anesthesia were NOT provided to this patient
A26: 45053 | B26: Closed by Remedial Plan | C26: 45513 | D26: 460 | E26: Public | G26: Level 1 | J26: ASA II | K26: 38 | L26: Respondent's dental office | P26: No - nitrous oxide was NOT provided to this patient | Q26: Yes - no complication | R26: No - sedation or general anesthesia were NOT provided to this patient
A27: 45051 | B27: Closed by Remedial Plan | C27: 45513 | D27: 462 | E27: Public | H27: No | J27: ASA I | K27: 11 | L27: Respondent's dental office | P27: Yes - no complication | Q27: Yes - no complication | R27: No - sedation or general anesthesia were NOT provided to this patient
A28: 45058 | B28: Closed by Final Board Order | C28: 45513 | D28: 455 | E28: Public | G28: Level 2 | J28: ASA II | K28: 61 | L28: Respondent's dental office | P28: Yes - no complication | Q28: Yes - no complication | R28: No - sedation or general anesthesia were NOT provided to this patient
A29: 45065 | B29: Closed by Final Board Order | C29: 45513 | D29: 448 | E29: Public | G29: Level 3 | H29: No | I29: Pediatric dentistry | J29: ASA I | K29: 30 | L29: Respondent's dental office | P29: Yes - no complication | Q29: Yes - no complication | R29: No - sedation or general anesthesia were NOT provided to this patient
A30: 45069 | B30: Closed by Remedial Plan | C30: 45513 | D30: 444 | E30: Public | G30: Level 2 | H30: No | I30: General dentistry | J30: ASA II | K30: 85 | L30: Respondent's dental office | P30: No - nitrous oxide was NOT provided to this patient | Q30: Yes - no complication | R30: No - sedation or general anesthesia were NOT provided to this patient
A31: 45072 | B31: Closed by Remedial Plan | C31: 45513 | D31: 441 | E31: Self-report of hospitalization | G31: Level 2 | H31: No | I31: Pediatric dentistry | J31: ASA II | K31: 3 | L31: Hospital | M31: Level 4 | N31: MD - Anesthesiologist | P31: No - nitrous oxide was NOT provided to this patient | Q31: Yes - no complication | R31: Yes - no complication
A32: 45076 | B32: Closed by Final Board Order | C32: 45513 | D32: 437 | E32: Public | G32: Level 2 | H32: No | I32: General dentistry | J32: ASA I | K32: 58 | L32: Respondent's dental office | M32: Level 3 | N32: Respondent | P32: No - nitrous oxide was NOT provided to this patient | Q32: Yes - no complication | R32: Yes - no complication
A33: 45079 | B33: Closed by Final Board Order | C33: 45513 | D33: 434 | E33: Public | G33: Level 2 | J33: ASA I | K33: 24 | L33: Office of another dentist | P33: No - nitrous oxide was NOT provided to this patient | Q33: Yes - no complication | R33: No - sedation or general anesthesia were NOT provided to this patient
A34: 45086 | B34: Closed by Remedial Plan | C34: 45513 | D34: 427 | E34: Initiated by Board | G34: Level 3 | H34: Yes | J34: ASA I | K34: 27 | L34: Respondent's dental office | P34: No - nitrous oxide was NOT provided to this patient | Q34: Yes - no complication | R34: No - sedation or general anesthesia were NOT provided to this patient
A35: 45089 | B35: Closed by Final Board Order | C35: 45513 | D35: 424 | E35: Self-report of hospitalization | G35: Level 1 | H35: No | I35: General dentistry | J35: ASA III | K35: 61 | L35: Office of another dentist | M35: Level 1 | N35: Respondent | P35: Yes - no complication | Q35: Yes - no complication | R35: Yes - no complication
A36: 45090 | B36: Closed by Remedial Plan | C36: 45513 | D36: 423 | E36: Public | G36: Level 2 | H36: No | I36: General dentistry | J36: ASA II | K36: 25 | L36: Respondent's dental office | M36: Level 2 | N36: Respondent | P36: No - nitrous oxide was NOT provided to this patient | Q36: Yes - no complication | R36: Yes - associated complication
A37: 45092 | B37: Closed by Final Board Order | C37: 45513 | D37: 421 | E37: Public | G37: Nitrous | H37: No | I37: General dentistry | J37: ASA II | K37: 57 | L37: Respondent's dental office | P37: No - nitrous oxide was NOT provided to this patient | Q37: Yes - no complication | R37: No - sedation or general anesthesia were NOT provided to this patient
